BEGIN:VCALENDAR
VERSION:2.0
PRODID:-//ChamberMaster//Event Calendar 2.0//EN
METHOD:PUBLISH
X-PUBLISHED-TTL:P3D
REFRESH-INTERVAL:P3D
CALSCALE:GREGORIAN
BEGIN:VEVENT
DTSTART:20191112T190000Z
DTEND:20191112T204500Z
X-MICROSOFT-CDO-ALLDAYEVENT:FALSE
SUMMARY:#WorkReady: Career Exploration 2019
DESCRIPTION:Through Career Exploration\, employers can impart enthusiasm and understanding of their industry\, identify skills and training required to fill jobs in their business\, and improve upon and cultivate a local pool of highly qualified talent. Select 9th and 10th grade high school students interested in pursuing CTE (Career Technical Education) will have the opportunity to tour a Lane Community College Department of their choice. Students will then participate in candid round table discussions with knowledgeable business leaders to gain insight into the industry of their choosing.\n\n\n\nCTE Department Tours and Roundtables\n\nArts and Communication\n\nBusiness and Office Professionals\n\nComputer Science and Information Technology\n\nCulinary\, Hospitality\, and Tourism\n\nHealth\, Medial\, and Fitness\n\nConstruction and Apprenticeships\n\nTransportation - Diesel and Automechanics\n\nWelding\, Fabrication\, and Manufacturing\n\nScience\, Natural Resources\, Math\, and Engineering\n\nSocial Sciences\, Social Services\, and Education\n\n\n\nIf you or someone you know is knowledgeable in one of the above industries\, please join us at Career Exploration to share your knowledge and enthusiasm for your industry with students!\n\n\n\nFor more information\, contact Paige Sharpe at paige@springfield-chamber.org or 541-746-1651.
X-ALT-DESC;FMTTYPE=text/html:<span style="font-family: verdana\; font-size: 14px\;">Through Career Exploration\, employers can impart enthusiasm and understanding of their industry\, identify skills and training required to fill jobs in their business\, and improve upon and cultivate a local pool of highly qualified talent. Select 9th and 10th grade high school students interested in pursuing CTE (Career Technical Education) will have the opportunity to tour a Lane Community College Department of their choice. Students will then participate in candid round table discussions with knowledgeable business leaders to gain insight into the industry of their choosing.<br />\n<br />\n<strong>CTE Department Tours and Roundtables</strong><br />\nArts and Communication<br />\nBusiness and Office Professionals<br />\nComputer Science and Information Technology<br />\nCulinary\, Hospitality\, and Tourism<br />\nHealth\, Medial\, and Fitness<br />\nConstruction and Apprenticeships<br />\nTransportation - Diesel and Automechanics<br />\nWelding\, Fabrication\, and Manufacturing<br />\nScience\, Natural Resources\, Math\, and Engineering<br />\nSocial Sciences\, Social Services\, and Education<br />\n<br />\n<em>If you or someone you know is knowledgeable in one of the above industries\, please join us at Career Exploration to share your knowledge and enthusiasm for your industry with students!</em><br />\n<br />\nFor more information\, contact Paige Sharpe at paige@springfield-chamber.org or 541-746-1651.</span>
LOCATION:Lane Community College Center for Meeting and Learning 4000 E. 30th Ave. Eugene
UID:e.1712.11228
SEQUENCE:3
DTSTAMP:20260419T220748Z
URL:https://business.springfield-chamber.org/events/details/workready-career-exploration-2019-11228
END:VEVENT

END:VCALENDAR
