BEGIN:VCALENDAR
VERSION:2.0
PRODID:-//ChamberMaster//Event Calendar 2.0//EN
METHOD:PUBLISH
X-PUBLISHED-TTL:P3D
REFRESH-INTERVAL:P3D
CALSCALE:GREGORIAN
BEGIN:VEVENT
DTSTART:20251031T223000Z
DTEND:20251101T000000Z
X-MICROSOFT-CDO-ALLDAYEVENT:FALSE
SUMMARY:Springfield City Hall-O-Ween
DESCRIPTION:pringfield\, OR   The City of Springfield invites families\, friends\, and neighbors to join in the Halloween fun at this year's City Hall-O-Ween\, a free community celebration for all ages. On Friday\, October 31\, from 3:30 PM to 5:00 PM\, Springfield City Hall will transform into a festive space filled with treats\, activities\, and entertainment.\n\n \n\nVisitors are encouraged to come in costume and enjoy a safe\, family-friendly Halloween experience featuring:\n\n\n	A special performance by the U.S. Navy Band New Orleans style brass band at 3:30 PM on the City Hall Plaza\n	A Magic Show at 4:00 PM\, guaranteed to amaze and delight\n	\n	Indoor trick-or-treating with City staff\n	\n	The Franz Grilled Cheese Truck serving free samples of a classic favorite\n	A fire truck and first responders from the Springfield Fire Department\n	Officers from the Springfield Police Department\, joining the fun and engaging with families\n	\n	Additional all-ages activities provided by City staff and community partners\n	\n\n\n \n\n"City Hall-O-Ween is one of our favorite traditions\, and we're excited to welcome families back for another year of safe and festive Halloween fun\," said Nancy Newton\, City Manager. "It's a wonderful way to bring the community together and connect with the people who serve Springfield every day."\n\n \n\nEvent Details:\n\n\n	Date: Friday\, October 31\, 2025\n	Time: 3:30 PM   5:00 PM\n	Location: Springfield City Hall\, 225 Fifth Street\, Springfield\, OR\n	Cost: FREE and open to the public\n\n\n \n\nFor more information\, contact the City Manager's Office at 541-726-3635.
X-ALT-DESC;FMTTYPE=text/html:<div class="x_elementToProof" style="border: 0px\; font-variant-numeric: inherit\; font-variant-east-asian: inherit\; font-variant-alternates: inherit\; font-variant-position: inherit\; font-variant-emoji: inherit\; font-stretch: inherit\; font-size: 10.5pt\; line-height: inherit\; font-family: &quot\;Segoe UI&quot\;\, &quot\;Segoe UI Web (West European)&quot\;\, &quot\;Helvetica Neue&quot\;\, sans-serif\, serif\, EmojiFont\; font-optical-sizing: inherit\; font-size-adjust: inherit\; font-kerning: inherit\; font-feature-settings: inherit\; font-variation-settings: inherit\; margin: 0in\; padding: 0px\; vertical-align: baseline\; color: rgb(0\, 0\, 0)\;"><i data-olk-copy-source="MessageBody">pringfield\, OR</i>&nbsp\;&ndash\; The City of Springfield invites families\, friends\, and neighbors to join in the Halloween fun at this year&rsquo\;s&nbsp\;<b>City Hall-O-Ween</b>\, a free community celebration for all ages. On&nbsp\;<b>Friday\, October 31\, from 3:30 PM to 5:00 PM</b>\, Springfield City Hall will transform into a festive space filled with treats\, activities\, and entertainment.</div>\n\n<div aria-hidden="true" class="x_elementToProof" style="border: 0px\; font-variant-numeric: inherit\; font-variant-east-asian: inherit\; font-variant-alternates: inherit\; font-variant-position: inherit\; font-variant-emoji: inherit\; font-stretch: inherit\; font-size: 10.5pt\; line-height: inherit\; font-family: &quot\;Segoe UI&quot\;\, &quot\;Segoe UI Web (West European)&quot\;\, &quot\;Helvetica Neue&quot\;\, sans-serif\, serif\, EmojiFont\; font-optical-sizing: inherit\; font-size-adjust: inherit\; font-kerning: inherit\; font-feature-settings: inherit\; font-variation-settings: inherit\; margin: 0in\; padding: 0px\; vertical-align: baseline\; color: rgb(0\, 0\, 0)\;">&nbsp\;</div>\n\n<div class="x_elementToProof" style="border: 0px\; font-variant-numeric: inherit\; font-variant-east-asian: inherit\; font-variant-alternates: inherit\; font-variant-position: inherit\; font-variant-emoji: inherit\; font-stretch: inherit\; font-size: 10.5pt\; line-height: inherit\; font-family: &quot\;Segoe UI&quot\;\, &quot\;Segoe UI Web (West European)&quot\;\, &quot\;Helvetica Neue&quot\;\, sans-serif\, serif\, EmojiFont\; font-optical-sizing: inherit\; font-size-adjust: inherit\; font-kerning: inherit\; font-feature-settings: inherit\; font-variation-settings: inherit\; margin: 0in\; padding: 0px\; vertical-align: baseline\; color: rgb(0\, 0\, 0)\;">Visitors are encouraged to come in costume and enjoy a safe\, family-friendly Halloween experience featuring:</div>\n\n<ul style="color: rgb(36\, 36\, 36)\; font-family: &quot\;Segoe UI&quot\;\, &quot\;Segoe UI Web (West European)&quot\;\, -apple-system\, BlinkMacSystemFont\, Roboto\, &quot\;Helvetica Neue&quot\;\, sans-serif\; font-size: 15px\; margin-top: 0in\; margin-right: 0in\;">\n	<li style="font-family: &quot\;Segoe UI&quot\;\, &quot\;Segoe UI Web (West European)&quot\;\, &quot\;Helvetica Neue&quot\;\, sans-serif\; font-size: 10.5pt\; color: rgb(0\, 0\, 0)\; margin: 0in\;">A special performance by the&nbsp\;<b>U.S. Navy Band New Orleans&ndash\;style brass band</b>&nbsp\;at 3:30 PM on the City Hall Plaza</li>\n	<li style="font-family: &quot\;Segoe UI&quot\;\, &quot\;Segoe UI Web (West European)&quot\;\, &quot\;Helvetica Neue&quot\;\, sans-serif\; font-size: 10.5pt\; color: rgb(0\, 0\, 0)\; margin: 0in\;">A&nbsp\;<b>Magic Show at 4:00 PM</b>\, guaranteed to amaze and delight</li>\n	<li style="font-family: &quot\;Segoe UI&quot\;\, &quot\;Segoe UI Web (West European)&quot\;\, &quot\;Helvetica Neue&quot\;\, sans-serif\; font-size: 10.5pt\; color: rgb(0\, 0\, 0)\; margin: 0in\;">\n	<div class="x_elementToProof" role="presentation" style="border: 0px\; font: inherit\; margin: 0px\; padding: 0px\; vertical-align: baseline\; color: inherit\;"><b>Indoor trick-or-treating</b>&nbsp\;with City staff</div>\n	</li>\n	<li style="font-family: &quot\;Segoe UI&quot\;\, &quot\;Segoe UI Web (West European)&quot\;\, &quot\;Helvetica Neue&quot\;\, sans-serif\; font-size: 10.5pt\; color: rgb(0\, 0\, 0)\; margin: 0in\;">The&nbsp\;<b>Franz Grilled Cheese Truck</b>&nbsp\;serving free samples of a classic favorite</li>\n	<li style="font-family: &quot\;Segoe UI&quot\;\, &quot\;Segoe UI Web (West European)&quot\;\, &quot\;Helvetica Neue&quot\;\, sans-serif\; font-size: 10.5pt\; color: rgb(0\, 0\, 0)\; margin: 0in\;">A fire truck and first responders from the&nbsp\;<b>Springfield Fire Department</b></li>\n	<li class="x_elementToProof" style="font-family: &quot\;Segoe UI&quot\;\, &quot\;Segoe UI Web (West European)&quot\;\, &quot\;Helvetica Neue&quot\;\, sans-serif\; font-size: 10.5pt\; color: rgb(0\, 0\, 0)\; margin: 0in\;">Officers from the&nbsp\;<b>Springfield Police Department</b>\, joining the fun and engaging with families</li>\n	<li style="font-family: &quot\;Segoe UI&quot\;\, &quot\;Segoe UI Web (West European)&quot\;\, &quot\;Helvetica Neue&quot\;\, sans-serif\; font-size: 10.5pt\; color: rgb(0\, 0\, 0)\; margin: 0in\;">\n	<div class="x_elementToProof" role="presentation" style="border: 0px\; font: inherit\; margin: 0px\; padding: 0px\; vertical-align: baseline\; color: inherit\;">Additional all-ages activities&nbsp\;provided by City staff and community partners</div>\n	</li>\n</ul>\n\n<div aria-hidden="true" class="x_elementToProof" style="border: 0px\; font-variant-numeric: inherit\; font-variant-east-asian: inherit\; font-variant-alternates: inherit\; font-variant-position: inherit\; font-variant-emoji: inherit\; font-stretch: inherit\; font-size: 10.5pt\; line-height: inherit\; font-family: &quot\;Segoe UI&quot\;\, &quot\;Segoe UI Web (West European)&quot\;\, &quot\;Helvetica Neue&quot\;\, sans-serif\, serif\, EmojiFont\; font-optical-sizing: inherit\; font-size-adjust: inherit\; font-kerning: inherit\; font-feature-settings: inherit\; font-variation-settings: inherit\; margin: 0in\; padding: 0px\; vertical-align: baseline\; color: rgb(0\, 0\, 0)\;">&nbsp\;</div>\n\n<div class="x_elementToProof" style="border: 0px\; font-variant-numeric: inherit\; font-variant-east-asian: inherit\; font-variant-alternates: inherit\; font-variant-position: inherit\; font-variant-emoji: inherit\; font-stretch: inherit\; font-size: 10.5pt\; line-height: inherit\; font-family: &quot\;Segoe UI&quot\;\, &quot\;Segoe UI Web (West European)&quot\;\, &quot\;Helvetica Neue&quot\;\, sans-serif\, serif\, EmojiFont\; font-optical-sizing: inherit\; font-size-adjust: inherit\; font-kerning: inherit\; font-feature-settings: inherit\; font-variation-settings: inherit\; margin: 0in\; padding: 0px\; vertical-align: baseline\; color: rgb(0\, 0\, 0)\;">&ldquo\;City Hall-O-Ween is one of our favorite traditions\, and we&rsquo\;re excited to welcome families back for another year of safe and festive Halloween fun\,&rdquo\; said Nancy Newton\, City Manager. &ldquo\;It&rsquo\;s a wonderful way to bring the community together and connect with the people who serve Springfield every day.&rdquo\;</div>\n\n<div aria-hidden="true" class="x_elementToProof" style="border: 0px\; font-variant-numeric: inherit\; font-variant-east-asian: inherit\; font-variant-alternates: inherit\; font-variant-position: inherit\; font-variant-emoji: inherit\; font-stretch: inherit\; font-size: 10.5pt\; line-height: inherit\; font-family: &quot\;Segoe UI&quot\;\, &quot\;Segoe UI Web (West European)&quot\;\, &quot\;Helvetica Neue&quot\;\, sans-serif\, serif\, EmojiFont\; font-optical-sizing: inherit\; font-size-adjust: inherit\; font-kerning: inherit\; font-feature-settings: inherit\; font-variation-settings: inherit\; margin: 0in\; padding: 0px\; vertical-align: baseline\; color: rgb(0\, 0\, 0)\;">&nbsp\;</div>\n\n<div class="x_elementToProof" style="border: 0px\; font-variant-numeric: inherit\; font-variant-east-asian: inherit\; font-variant-alternates: inherit\; font-variant-position: inherit\; font-variant-emoji: inherit\; font-stretch: inherit\; font-size: 13pt\; line-height: inherit\; font-family: &quot\;Segoe UI&quot\;\, &quot\;Segoe UI Web (West European)&quot\;\, &quot\;Helvetica Neue&quot\;\, sans-serif\, serif\, EmojiFont\; font-optical-sizing: inherit\; font-size-adjust: inherit\; font-kerning: inherit\; font-feature-settings: inherit\; font-variation-settings: inherit\; margin: 0in\; padding: 0px\; vertical-align: baseline\; color: rgb(0\, 0\, 0)\;"><b>Event Details:</b></div>\n\n<ul style="color: rgb(36\, 36\, 36)\; font-family: &quot\;Segoe UI&quot\;\, &quot\;Segoe UI Web (West European)&quot\;\, -apple-system\, BlinkMacSystemFont\, Roboto\, &quot\;Helvetica Neue&quot\;\, sans-serif\; font-size: 15px\; margin-top: 0in\; margin-right: 0in\;">\n	<li style="font-family: &quot\;Segoe UI&quot\;\, &quot\;Segoe UI Web (West European)&quot\;\, &quot\;Helvetica Neue&quot\;\, sans-serif\; font-size: 10.5pt\; color: rgb(0\, 0\, 0)\; margin: 0in\;"><b>Date:</b>&nbsp\;Friday\, October 31\, 2025</li>\n	<li style="font-family: &quot\;Segoe UI&quot\;\, &quot\;Segoe UI Web (West European)&quot\;\, &quot\;Helvetica Neue&quot\;\, sans-serif\; font-size: 10.5pt\; color: rgb(0\, 0\, 0)\; margin: 0in\;"><b>Time:</b>&nbsp\;3:30 PM &ndash\; 5:00 PM</li>\n	<li style="font-family: &quot\;Segoe UI&quot\;\, &quot\;Segoe UI Web (West European)&quot\;\, &quot\;Helvetica Neue&quot\;\, sans-serif\; font-size: 10.5pt\; color: rgb(0\, 0\, 0)\; margin: 0in\;"><b>Location:</b>&nbsp\;Springfield City Hall\, 225 Fifth Street\, Springfield\, OR</li>\n	<li style="font-family: &quot\;Segoe UI&quot\;\, &quot\;Segoe UI Web (West European)&quot\;\, &quot\;Helvetica Neue&quot\;\, sans-serif\; font-size: 10.5pt\; color: rgb(0\, 0\, 0)\; margin: 0in\;"><b>Cost:</b>&nbsp\;FREE and open to the public</li>\n</ul>\n\n<div aria-hidden="true" class="x_elementToProof" style="border: 0px\; font-variant-numeric: inherit\; font-variant-east-asian: inherit\; font-variant-alternates: inherit\; font-variant-position: inherit\; font-variant-emoji: inherit\; font-stretch: inherit\; font-size: 10.5pt\; line-height: inherit\; font-family: &quot\;Segoe UI&quot\;\, &quot\;Segoe UI Web (West European)&quot\;\, &quot\;Helvetica Neue&quot\;\, sans-serif\, serif\, EmojiFont\; font-optical-sizing: inherit\; font-size-adjust: inherit\; font-kerning: inherit\; font-feature-settings: inherit\; font-variation-settings: inherit\; margin: 0in\; padding: 0px\; vertical-align: baseline\; color: rgb(0\, 0\, 0)\;">&nbsp\;</div>\n\n<div class="x_elementToProof" style="border: 0px\; font-variant-numeric: inherit\; font-variant-east-asian: inherit\; font-variant-alternates: inherit\; font-variant-position: inherit\; font-variant-emoji: inherit\; font-stretch: inherit\; font-size: 10.5pt\; line-height: inherit\; font-family: &quot\;Segoe UI&quot\;\, &quot\;Segoe UI Web (West European)&quot\;\, &quot\;Helvetica Neue&quot\;\, sans-serif\, serif\, EmojiFont\; font-optical-sizing: inherit\; font-size-adjust: inherit\; font-kerning: inherit\; font-feature-settings: inherit\; font-variation-settings: inherit\; margin: 0in\; padding: 0px\; vertical-align: baseline\; color: rgb(0\, 0\, 0)\;">For more information\, contact the City Manager&rsquo\;s Office at 541-726-3635.</div>\n
LOCATION:Springfield City Hall\, 225 Fifth Street\, Springfield\, OR
UID:e.1712.13930
SEQUENCE:3
DTSTAMP:20260420T082926Z
URL:https://business.springfield-chamber.org/events/details/springfield-city-hall-o-ween-13930
END:VEVENT

END:VCALENDAR
