BEGIN:VCALENDAR
VERSION:2.0
PRODID:-//ChamberMaster//Event Calendar 2.0//EN
METHOD:PUBLISH
X-PUBLISHED-TTL:P3D
REFRESH-INTERVAL:P3D
CALSCALE:GREGORIAN
BEGIN:VEVENT
DTSTART:20220422T183000Z
DTEND:20220422T200000Z
X-MICROSOFT-CDO-ALLDAYEVENT:FALSE
SUMMARY:Small Business Solutions Hub Program - 2022
DESCRIPTION:Join us on Friday\, April 22nd\, for the launch of our Small Business Solutions Hub programming. This program will be the first in a series throughout the year offering business education services\, small business resources\, and networking opportunities\, both in-person and online. Plus\, join for an exclusive first look at our new digital hub! Program topic and details to come soon.
X-ALT-DESC;FMTTYPE=text/html:<span style="color:black\;"><span style="font-family:arial\,sans-serif\;"><span style="font-size:10.5pt\;">Join us on Friday\, April 22nd\, for the launch of our Small Business Solutions Hub programming. This program will be the first in a series throughout the year offering business education services\, small business resources\, and networking opportunities\, both in-person and online. Plus\, join for an exclusive first look at our new digital hub! Program topic and details to come soon. </span></span></span>
LOCATION:This program will be a hybrid format\, with both in person and virtual attendees welcome. The in person location is the Springfield Chamber - 101 South A Street\, Springfield OR
UID:e.1712.11517
SEQUENCE:3
DTSTAMP:20260419T203513Z
URL:https://business.springfield-chamber.org/events/details/small-business-solutions-hub-program-2022-11517
END:VEVENT

END:VCALENDAR
