BEGIN:VCALENDAR
VERSION:2.0
PRODID:-//ChamberMaster//Event Calendar 2.0//EN
METHOD:PUBLISH
X-PUBLISHED-TTL:P3D
REFRESH-INTERVAL:P3D
CALSCALE:GREGORIAN
BEGIN:VEVENT
DTSTART:20200415T063000Z
DTEND:20200417T000000Z
X-MICROSOFT-CDO-ALLDAYEVENT:FALSE
SUMMARY:Postponed: Springfield Leadership Workshop 2020
DESCRIPTION:*** Registration for Chamber hosted events beyond April 30th\, 2020 will remain open pending further notice. Should evolving developments surrounding COVID-19 require us to cancel an event that you have registered for and paid\, a refund will be issued. Please contact the Chamber at 541-746-1651 or info@springfield-chamber.org with any questions.\n\n\n\n'Serving Your Community'\n\n\n\nAre you searching for leadership opportunities?\n\n\n\nDo you have staff members who would benefit from greater leadership skills?\n\n\n\nWelcome to the Springfield Leadership Workshop!\n\n\n\nThe Springfield Chamber of Commerce has developed the Springfield Leadership Workshop to identify and prepare leaders within our community.\n\n\n\nParticipants in this program can expect to...\n\n	Develop a deeper understanding of   and appreciation for   effective community leadership.\n	Discover opportunities to serve that are well-suited to your own skills and passions.\n	Build solid and lasting relationships with community minded professionals.\n	Assess and analyze your unique leadership skills.\n	Establish your own leadership goals and the steps needed to accomplish them.
X-ALT-DESC;FMTTYPE=text/html:<span style="font-size:12px\;"><em><span style="caret-color: rgb(0\, 0\, 0)\; color: rgb(0\, 0\, 0)\; font-family: &quot\;Helvetica Neue&quot\;\, serif\;">*** Registration for Chamber hosted events beyond April 30th\, 2020 will remain open pending further notice. Should evolving developments surrounding COVID-19 require us to cancel an event that you have registered for and paid\, a refund will be issued. Please contact the Chamber at 541-746-1651 or&nbsp\;</span><span style="caret-color: rgb(0\, 0\, 0)\; font-family: &quot\;Helvetica Neue&quot\;\, serif\;">info</span>@springfield-chamber.org<span style="caret-color: rgb(0\, 0\, 0)\; color: rgb(0\, 0\, 0)\; font-family: &quot\;Helvetica Neue&quot\;\, serif\;">&nbsp\;with any questions.</span></em></span><br />\n<br />\n<span style="font-family: verdana\;"><strong><span style="font-size: 11pt\;"><span style="color: rgb(0\, 128\, 0)\;"><span style="font-size: 22px\;"><em>&#39\;Serving Your Community</em>&#39\;</span></span></span></strong><br />\n<br />\n<span style="font-size: 16px\;"><em>Are you searching for leadership opportunities?<br />\n<br />\nDo you have staff members who would benefit from greater leadership skills?</em><br />\n<br />\n<strong><em>Welcome to the Springfield Leadership Workshop!</em></strong><br />\n<br />\nThe Springfield Chamber of Commerce has developed the Springfield Leadership Workshop to identify and prepare leaders within our community.<br />\n<br />\nParticipants in this program can expect to...</span></span>\n<ul>\n	<li><span style="font-family: verdana\;"><span style="font-size: 16px\;">Develop a deeper understanding of &ndash\; and appreciation for &ndash\; effective community leadership.</span></span></li>\n	<li><span style="font-family: verdana\;"><span style="font-size: 16px\;">Discover opportunities to serve that are well-suited to your own skills and passions.</span></span></li>\n	<li><span style="font-family: verdana\;"><span style="font-size: 16px\;">Build solid and lasting relationships with community minded professionals.</span></span></li>\n	<li><span style="font-family: verdana\;"><span style="font-size: 16px\;">Assess and analyze your unique leadership skills.</span></span></li>\n	<li><span style="font-family: verdana\;"><span style="font-size: 16px\;">Establish your own leadership goals and the steps needed to accomplish them.</span></span></li>\n</ul>\n
LOCATION:Springfield Area Chamber of Commerce 101 South A Street Springfield\, OR 97477
UID:e.1712.11298
SEQUENCE:3
DTSTAMP:20260419T203624Z
URL:https://business.springfield-chamber.org/events/details/postponed-springfield-leadership-workshop-2020-11298
END:VEVENT

END:VCALENDAR
