BEGIN:VCALENDAR
VERSION:2.0
PRODID:-//ChamberMaster//Event Calendar 2.0//EN
METHOD:PUBLISH
X-PUBLISHED-TTL:P3D
REFRESH-INTERVAL:P3D
CALSCALE:GREGORIAN
BEGIN:VEVENT
DTSTART:20191011T183000Z
DTEND:20191011T200000Z
X-MICROSOFT-CDO-ALLDAYEVENT:FALSE
SUMMARY:Meet the Developers Session 2
DESCRIPTION:Economic Development Committee presents Meet the Developers \n\n \n\nThe Springfield renaissance has arrived and we've arranged for an inside peek at who\, what\, and why through a special Meet the Developers luncheon program series. Join Chamber peers and staff as we sit down with local developers\, hear what's top-of-mind for these entrepreneurial visionaries\, gain insights to their motivation\, and a glimpse at what they have in sight.\n\n\n\nPrograms are scheduled for 9/27\, 10/11\, and 11/8 and will be held at Along Came Trudy\, 1488 18th St.\, Springfield\, OR 97477\, from 11:30 AM   1PM. Please email Dani Thompson at Dani@springfield-chamber.org or call the Chamber at 541-746-1651 to RSVP.\n\n\n\nDeadline to RSVP for Session 2 is Monday\, October 7th.\n\n\n\nBuffet lunch will be available for $12\, including a drink.
X-ALT-DESC;FMTTYPE=text/html:Economic Development Committee presents Meet the Developers&nbsp\;<br />\n&nbsp\;<br />\nThe Springfield renaissance has arrived and we&rsquo\;ve arranged for an inside peek at who\, what\, and why through&nbsp\;a special Meet the Developers luncheon program series. Join Chamber peers and staff as we sit down with local developers\, hear what&rsquo\;s top-of-mind for these entrepreneurial visionaries\, gain insights to their motivation\, and a glimpse at what they have in sight.<br />\n<br />\nPrograms are scheduled for 9/27\, 10/11\, and 11/8 and will be held at Along Came Trudy\, 1488 18th St.\, Springfield\, OR 97477\, from 11:30 AM &ndash\; 1PM. Please email Dani Thompson at <a href="mailto:Dani@springfield-chamber.org">Dani@springfield-chamber.org</a> or call the Chamber at 541-746-1651 to RSVP.<br />\n<br />\nDeadline to RSVP for Session 2 is Monday\, October 7th.<br />\n<br />\nBuffet lunch will be available for $12\, including a drink.
LOCATION:Along Came Trudy 1488 18th St. Springfield\, OR 97477
UID:e.1712.11212
SEQUENCE:3
DTSTAMP:20260421T115233Z
URL:https://business.springfield-chamber.org/events/details/meet-the-developers-session-2-11212
END:VEVENT

END:VCALENDAR
