BEGIN:VCALENDAR
VERSION:2.0
PRODID:-//ChamberMaster//Event Calendar 2.0//EN
METHOD:PUBLISH
X-PUBLISHED-TTL:P3D
REFRESH-INTERVAL:P3D
CALSCALE:GREGORIAN
BEGIN:VEVENT
DTSTART:20201020T150000Z
DTEND:20201020T160000Z
X-MICROSOFT-CDO-ALLDAYEVENT:FALSE
SUMMARY:Meet the Candidates Business Round Tables - Johanis Tadeo - Springfield City Council Ward 3 Candidate
DESCRIPTION:The Springfield Area Chamber of Commerce\, co-hosted by our Government Issues and Economic Development Committees will be holding Candidate Business Roundtables. \n\n \n\nThe Candidate Business Roundtable meetings will be held virtually every Tuesday from 8:00-9:00am beginning September 15th through October 27th. The Candidate Business Roundtable meetings provide an opportunity for candidates to communicate with business owners and leaders of the Springfield Area. To ensure a meaningful dialogue we will host one candidate each meeting and allow for approximately 45' open discussion and Q/A. \n\n\n\nEmail Max Molzahn max@springfield-chamber.org or Dani Thompson dani@springfield-chamber.org to be added to the Government Issues or Economic Development Committee in order to receive these meeting invitations.
X-ALT-DESC;FMTTYPE=text/html:<span style="color:black\;"><span style="font-family:arial\,sans-serif\;"><span style="font-size:10.5pt\;">The Springfield Area Chamber of Commerce\, co-hosted by our Government Issues and Economic Development Committees will be holding Candidate Business Roundtables.&nbsp\;</span></span></span><br />\n&nbsp\;<br />\n<span style="color:#1A191A\;"><span style="font-family:arial\,sans-serif\;"><span style="font-size:10.5pt\;">The Candidate Business Roundtable meetings will be held virtually every Tuesday from 8:00-9:00am beginning September 15th through October 27th. The Candidate Business Roundtable meetings provide an opportunity for candidates to communicate with business owners and leaders of the Springfield Area. To ensure a meaningful dialogue we will host one candidate each meeting and allow for approximately 45&rsquo\; open discussion and Q/A.&nbsp\;</span></span></span><br />\n<br />\nEmail Max Molzahn max@springfield-chamber.org or Dani Thompson dani@springfield-chamber.org to be added to the Government Issues or Economic Development Committee in order to receive these meeting invitations.<br />\n&nbsp\;
LOCATION:
UID:e.1712.11381
SEQUENCE:3
DTSTAMP:20260419T204739Z
URL:https://business.springfield-chamber.org/events/details/meet-the-candidates-business-round-tables-johanis-tadeo-springfield-city-council-ward-3-candidate-11381
END:VEVENT

END:VCALENDAR
