BEGIN:VCALENDAR
VERSION:2.0
PRODID:-//ChamberMaster//Event Calendar 2.0//EN
METHOD:PUBLISH
X-PUBLISHED-TTL:P3D
REFRESH-INTERVAL:P3D
CALSCALE:GREGORIAN
BEGIN:VEVENT
DTSTART:20210326T184500Z
DTEND:20210326T200000Z
X-MICROSOFT-CDO-ALLDAYEVENT:FALSE
SUMMARY:LunchVox LIVE 2021: Legislative Outlook
DESCRIPTION:Join the Springfield Area Chamber of Commerce Friday\, March 26th for LunchVox LIVE   Legislative Outlook. This program will focus on the 2021 Oregon legislative session and the issues that matter to you.\n\n\n\nJL Wilson\, Principal at Public Affairs Counsel and Oregon State Chamber of Commerce legislative counsel will provide an update on the OSCC's legislative priorities and an outlook from the small business perspective. Our panel featuring Oregon State Senator Lee Beyer\, Oregon State Representative John Lively\, and Springfield Mayor Sean VanGordon will connect the dots between state and local policy impacts and community and economic development priorities. This will be facilitated panel discussion with plenty of opportunity to participate so come ready to engage in the dialogue!
X-ALT-DESC;FMTTYPE=text/html:Join the Springfield Area Chamber of Commerce Friday\, March 26th for LunchVox LIVE &ndash\; Legislative Outlook. This program will focus on the 2021 Oregon legislative session and the issues that matter to you.<br />\n<br />\nJL Wilson\, Principal at Public Affairs Counsel and Oregon State Chamber of Commerce legislative counsel will provide an update on the OSCC&rsquo\;s legislative priorities and an outlook from the small business perspective. Our panel featuring Oregon State Senator Lee Beyer\, Oregon State Representative John Lively\, and Springfield Mayor Sean VanGordon will connect the dots between state and local policy impacts and community and economic development priorities. This will be facilitated panel discussion with plenty of opportunity to participate so come ready to engage in the dialogue!
LOCATION:This program will be held via Zoom. A meeting link will be sent to registrants in advance of the program.
UID:e.1712.11410
SEQUENCE:3
DTSTAMP:20260420T011109Z
URL:https://business.springfield-chamber.org/events/details/lunchvox-live-2021-legislative-outlook-11410
END:VEVENT

END:VCALENDAR
