BEGIN:VCALENDAR
VERSION:2.0
PRODID:-//ChamberMaster//Event Calendar 2.0//EN
METHOD:PUBLISH
X-PUBLISHED-TTL:P3D
REFRESH-INTERVAL:P3D
CALSCALE:GREGORIAN
BEGIN:VEVENT
DTSTART:20190830T183000Z
DTEND:20190830T200000Z
X-MICROSOFT-CDO-ALLDAYEVENT:FALSE
SUMMARY:LunchVox 2019: Bridging the Political Divide
DESCRIPTION:Bridging the Political Divide\n\nJoin us Friday\, August 30th for a discussion on bridging the political divide with expert Terry Busch.\n\n\n\nThe task of depolarizing our nation's political conversation is the responsibility of us all.  Blaming it on others is an excuse for inaction.  Waiting for it to happen ensures it probably never will.  Join Dr. Busch over lunch for a dialog about the challenge today's polarized conversations present and gain some practical depolarizing tools you can employ within your families\, work places\, and social networks.\n\n\n\nDr. Terry Joseph Busch\n\nDr. Busch has over thirty years of broad professional experience as a teacher\, foreign policy analyst\, manager\, leader at the executive level of the Federal Government\, and management consultant.  His early work experience included stints as an Army Medical Services Corps Officer in Germany and Vietnam\, and an Assistant Professorship in the Political Science Department at Denison University.  His distinguished career with the Central Intelligence Agency included senior assignments as Director of Leadership Analysis\, Deputy Inspector General\, and Director Human Resource Management.  He is now President and CEO of his own consulting practice and author of several books on managing and leading including "What the Best Managers Know and Do".\n\n\n\nDr. Busch's workshops have helped hundreds of managers effectively come to grips with the challenges of their demanding jobs.  His provocative\, frank\, and motivational perspective consistently challenges his workshop participants to abandon their comfort zones and take personal responsibility for achieving the goals\, changes\, and excellence they seek in their professional lives.  Dr. Busch is an insight weaver who promises to make you think and whose substantive messages consistently produce results.\n\n\n\n\n\n11:30am - 11:45am Registration\, Networking and Lunch\n\n11:45am - 1:00pm Program
X-ALT-DESC;FMTTYPE=text/html:<strong>Bridging the Political Divide<br />\n<em>Join us Friday\, August 30th for a discussion on bridging the political divide with expert Terry Busch.</em></strong><br />\n<br />\nThe task of depolarizing our nation&#39\;s political conversation is the responsibility of us all.&nbsp\; Blaming it on others is an excuse for inaction.&nbsp\; Waiting for it to happen ensures it probably never will.&nbsp\; Join Dr. Busch over lunch for a dialog about the challenge today&#39\;s polarized conversations present and gain some practical depolarizing tools you can employ within your families\, work places\, and social networks.<br />\n<br />\n<em>Dr. Terry Joseph Busch</em><br />\nDr. Busch has over thirty years of broad professional experience as a teacher\, foreign policy analyst\, manager\, leader at the executive level of the Federal Government\, and management consultant.&nbsp\; His early work experience included stints as an Army Medical Services Corps Officer in Germany and Vietnam\, and an Assistant Professorship in the Political Science Department at Denison University.&nbsp\; His distinguished career with the Central Intelligence Agency included senior assignments as Director of Leadership Analysis\, Deputy Inspector General\, and Director Human Resource Management.&nbsp\; He is now President and CEO of his own consulting practice and author of several books on managing and leading including &ldquo\;What the Best Managers Know and Do&rdquo\;.<br />\n<br />\nDr. Busch&rsquo\;s workshops have helped hundreds of managers effectively come to grips with the challenges of their demanding jobs.&nbsp\; His provocative\, frank\, and motivational perspective consistently challenges his workshop participants to abandon their comfort zones and take personal responsibility for achieving the goals\, changes\, and excellence they seek in their professional lives.&nbsp\; Dr. Busch is an insight weaver who promises to make you think and whose substantive messages consistently produce results.<br />\n<br />\n<br />\n11:30am&nbsp\;- 11:45am Registration\, Networking and Lunch<br />\n11:45am&nbsp\;- 1:00pm Program
LOCATION:Hilton Garden Inn 3528 Gateway Street Springfield\, OR 97477
UID:e.1712.11172
SEQUENCE:3
DTSTAMP:20260421T142248Z
URL:https://business.springfield-chamber.org/events/details/lunchvox-2019-bridging-the-political-divide-11172
END:VEVENT

END:VCALENDAR
