BEGIN:VCALENDAR
VERSION:2.0
PRODID:-//ChamberMaster//Event Calendar 2.0//EN
METHOD:PUBLISH
X-PUBLISHED-TTL:P3D
REFRESH-INTERVAL:P3D
CALSCALE:GREGORIAN
BEGIN:VEVENT
DTSTART:20201021T153000Z
DTEND:20201022T183000Z
X-MICROSOFT-CDO-ALLDAYEVENT:FALSE
SUMMARY:Leadership Summit
DESCRIPTION:The Springfield Area Chamber of Commerce second annual Leadership Summit provides opportunity for professional leadership development and organizational management training. The 2020 Summit features speakers and topics who will speak to real time challenges businesses are facing in 2020\, around issues such as leading organizations through change\, tools for managing remote and hybrid teams\, managing difficult conversations\, and building a blueprint for diversity. \n \n\nThis two day summit will be held online. Participants will find ample opportunity for peer to peer networking\, dialogue\, and leadership development. \n\n \nAGENDA\n\nDay 1 October 21st\n\nMANAGING A REMOTE WORKFORCE\n\nRobert Steck\, CEO\, Partnered Solutions IT & Ruby Porter\n\nCHANGE MANAGEMENT\n\nDavid Elgarico\, CEO\, McKenzie-Willamette Medical Center\n\n \n\nDay 2 October 22nd\n\nKEYNOTE\n\nKelly Graves\, Women's Basketball Coach\, University of Oregon\n\n\n\nMANAGING DIFFICULT CONVERSATIONS\n\nDr. Bill Davis\, Co-director of Administrator Licensure Program\, University of Oregon\n\nBUILDING A BLUEPRINT FOR DIVERSITY\n\nDr. Shari Clark\, VP for Diversity & Chief Diversity Officer\, Eastern Washington University
X-ALT-DESC;FMTTYPE=text/html:<p dir="ltr" style="line-height:1.38\;margin-top:0pt\;margin-bottom:0pt\;"><span id="docs-internal-guid-f4be9229-7fff-593e-f5e4-a4779143f6b8"><span style="font-size: 11pt\; font-family: Arial\; font-variant-numeric: normal\; font-variant-east-asian: normal\; vertical-align: baseline\; white-space: pre-wrap\;">The Springfield Area Chamber of Commerce second annual Leadership Summit provides opportunity for professional leadership development and organizational management training. The 2020 Summit features speakers and topics who will speak to real time challenges businesses are facing in 2020\, around issues such as leading organizations through change\, tools for managing remote and hybrid teams\, managing difficult conversations\, and building a blueprint for diversity.&nbsp\;</span></span></p>\n&nbsp\;\n\n<p dir="ltr" style="line-height:1.38\;margin-top:0pt\;margin-bottom:0pt\;"><span id="docs-internal-guid-f4be9229-7fff-593e-f5e4-a4779143f6b8"><span style="font-size: 11pt\; font-family: Arial\; font-variant-numeric: normal\; font-variant-east-asian: normal\; vertical-align: baseline\; white-space: pre-wrap\;">This two day summit will be held online. Participants will find ample opportunity for peer to peer networking\, dialogue\, and leadership development. </span></span></p>\n\n<div>&nbsp\;\n<p style="text-align: center\;"><strong>AGENDA<br />\nDay 1 October 21st</strong></p>\n\n<p style="text-align: center\;">MANAGING A REMOTE WORKFORCE</p>\n\n<p style="text-align: center\;"><em>Robert Steck\, CEO\, Partnered Solutions IT &amp\; Ruby Porter</em></p>\n\n<p style="text-align: center\;">CHANGE MANAGEMENT</p>\n\n<p style="text-align: center\;"><em>David Elgarico\, CEO\, McKenzie-Willamette Medical Center</em></p>\n\n<p>&nbsp\;</p>\n\n<p style="text-align: center\;"><strong>Day 2 October 22nd</strong></p>\n\n<p style="text-align: center\;">KEYNOTE<br />\n<em>Kelly Graves\, Women&#39\;s Basketball Coach\, University of Oregon</em><br />\n<br />\nMANAGING DIFFICULT CONVERSATIONS</p>\n\n<p style="text-align: center\;"><em>Dr. Bill Davis\, Co-director of Administrator Licensure Program\, University of Oregon</em></p>\n\n<p style="text-align: center\;">BUILDING A BLUEPRINT FOR DIVERSITY</p>\n\n<p style="text-align: center\;"><em>Dr. Shari Clark\, VP for Diversity &amp\; Chief Diversity Officer\, Eastern Washington University</em></p>\n</div>\n
LOCATION:This 2 day live video summit will be held via Zoom
UID:e.1712.11383
SEQUENCE:3
DTSTAMP:20260419T201816Z
URL:https://business.springfield-chamber.org/events/details/leadership-summit-11383
END:VEVENT

END:VCALENDAR
