BEGIN:VCALENDAR
VERSION:2.0
PRODID:-//ChamberMaster//Event Calendar 2.0//EN
METHOD:PUBLISH
X-PUBLISHED-TTL:P3D
REFRESH-INTERVAL:P3D
CALSCALE:GREGORIAN
BEGIN:VEVENT
DTSTART:20230523T020000Z
DTEND:20230523T040000Z
X-MICROSOFT-CDO-ALLDAYEVENT:FALSE
SUMMARY:Documentary Screening - Unzipped: An Autopsy of American Inequality
DESCRIPTION:Join ShelterCare\, Pro-Bone-O Veterinary Care\, Square One Villages\, and Habitat for Humanity of Central Lane for a free documentary screening of Unzipped: An Autopsy of American Inequality. First come\, first served - limit 80 attendees.\n\nFrom the award-winning writer & director Colin K. Gray\, produced by The Sibs\, and executive produced by Lucy Liu\, UNZIPPED is a searing expos  of the growing affordable housing crisis in America. This intimate feature documentary focuses on one of the country's most iconic and increasingly income divided zip codes\, Venice CA 90291. Once a mecca for artists\, outsiders and a thriving Black community\, Venice is now the frontline for America's heated battles over gentrification\, lack of affordable housing\, and homelessness. With moving\, personal profiles of families who struggle to remain in their rapidly gentrifying neighborhood\, to bitterly contested community fights over a proposed homeless shelter\, UNZIPPED explodes stereotypes and humanizes the lived experiences of people caught in the cross-fire of America's growing housing divide.
X-ALT-DESC;FMTTYPE=text/html:<div>Join ShelterCare\, Pro-Bone-O Veterinary Care\, Square One Villages\, and Habitat for Humanity of Central Lane for a free documentary screening of Unzipped: An Autopsy of American Inequality. First come\, first served - limit 80 attendees.</div>\n\n<div>From the award-winning writer &amp\; director Colin K. Gray\, produced by The Sibs\, and executive produced by Lucy Liu\, UNZIPPED is a searing expos&eacute\; of the growing affordable housing crisis in America. This intimate feature documentary focuses on one of the country&rsquo\;s most iconic and increasingly income divided zip codes\, Venice CA 90291. Once a mecca for artists\, outsiders and a thriving Black community\, Venice is now the frontline for America&rsquo\;s heated battles over gentrification\, lack of affordable housing\, and homelessness. With moving\, personal profiles of families who struggle to remain in their rapidly gentrifying neighborhood\, to bitterly contested community fights over a proposed homeless shelter\, UNZIPPED explodes stereotypes and humanizes the lived experiences of people caught in the cross-fire of America&rsquo\;s growing housing divide.</div>\n
LOCATION:Art House 492 E 13th Ave Eugene\, OR
UID:e.1712.12023
SEQUENCE:3
DTSTAMP:20260420T182059Z
URL:https://business.springfield-chamber.org/events/details/documentary-screening-unzipped-an-autopsy-of-american-inequality-12023
END:VEVENT

END:VCALENDAR
