BEGIN:VCALENDAR
VERSION:2.0
PRODID:-//ChamberMaster//Event Calendar 2.0//EN
METHOD:PUBLISH
X-PUBLISHED-TTL:P3D
REFRESH-INTERVAL:P3D
CALSCALE:GREGORIAN
BEGIN:VEVENT
DTSTART:20230822T230000Z
DTEND:20230823T000000Z
X-MICROSOFT-CDO-ALLDAYEVENT:FALSE
SUMMARY:Chamber Roundtable
DESCRIPTION:CHAMBER ROUNDTABLE:\n\nHow A.I. is Changing Business ... and What We Can Do to Prepare\n\nFacilitators:\n\nLiz Dahlager\, Executive Vice President\, Meret  Hotel Management\n\nKenny Weigandt\, Director of Community Engagement\, Willamalane Park & Recreation District\n\n\n	To what extent has A.I. impacted your work? \n	What A.I. tools are you currently using\, if any? \n	What risks\, challenges\, or concerns do you have about incorporating A.I. tools into your job or organization?\n	And what's on the horizon?\n\n\nJoin the conversation\, as your fellow business owners and community leaders discuss this vital issue that has come to the forefront of business at breakneck speed. \n\nThis discussion will delve into the extent to which A.I. has influenced the daily operations of the various sectors the Chamber represents. Our members will share experiences and insights into the transformative role of A.I. within their respective fields. We will also discuss the A.I. tools currently being utilized and the specific ways in which these tools have enhanced efficiency\, decision-making\, and overall performance.\n\nThe Roundtable will also address the risks\, challenges\, and concerns associated with integrating A.I. tools into existing workflows. Participants will have the opportunity to consider strategies to mitigate potential drawbacks while harnessing A.I.'s full potential.\n\n\n\nREGISTER TODAY!
X-ALT-DESC;FMTTYPE=text/html:<p><strong>CHAMBER ROUNDTABLE:<br />\nHow A.I. is Changing Business ... and&nbsp\;What We Can Do to Prepare</strong></p>\n\n<p>Facilitators:<br />\n<strong>Liz Dahlager</strong>\,&nbsp\;Executive Vice President\, Meret&eacute\; Hotel Management<br />\n<strong>Kenny Weigandt</strong>\, Director of Community Engagement\, Willamalane Park&nbsp\;&amp\; Recreation District</p>\n\n<ul>\n	<li><em>To what extent has A.I. impacted your work?&nbsp\;</em></li>\n	<li><em>What A.I. tools are you currently using\, if any?&nbsp\;</em></li>\n	<li><em>What risks\, challenges\, or concerns do you have about incorporating A.I. tools into your job or organization?</em></li>\n	<li><em>And what&#39\;s on the horizon?</em></li>\n</ul>\n\n<p>Join the conversation\, as your fellow business owners and community leaders discuss this vital issue that has come to the forefront of business at breakneck speed.&nbsp\;</p>\n\n<p>This discussion will delve into the extent to which A.I. has influenced the daily operations of the various sectors the Chamber represents. Our members will share&nbsp\;experiences and insights into the transformative role of A.I. within their respective fields. We will also discuss the A.I. tools currently being utilized&nbsp\;and the specific ways in which these tools have enhanced efficiency\, decision-making\, and overall performance.</p>\n\n<p>The Roundtable will also address the risks\, challenges\, and concerns associated with integrating A.I. tools into existing workflows. Participants will have the opportunity to&nbsp\;consider strategies to mitigate potential drawbacks while harnessing A.I.&#39\;s full potential.<br />\n<br />\nREGISTER TODAY!</p>\n
LOCATION:Chamber Depot 101 S A St. Springfield\, OR 97477
UID:e.1712.12045
SEQUENCE:3
DTSTAMP:20260421T065339Z
URL:https://business.springfield-chamber.org/events/details/chamber-roundtable-12045
END:VEVENT

END:VCALENDAR
