BEGIN:VCALENDAR
VERSION:2.0
PRODID:-//ChamberMaster//Event Calendar 2.0//EN
METHOD:PUBLISH
X-PUBLISHED-TTL:P3D
REFRESH-INTERVAL:P3D
CALSCALE:GREGORIAN
BEGIN:VEVENT
DTSTART:20200520T223000Z
DTEND:20200521T000000Z
X-MICROSOFT-CDO-ALLDAYEVENT:FALSE
SUMMARY:Business Boot Camp 2020 - Day 2 - Best Practices for a Remote and Secure Workforce
DESCRIPTION:Business Boot Camp - Session 2\n\n\n\nJoin the Springfield Chamber for the 2020 Business Boot Camp. Session two will be presented by Partnered Solutions IT. Now more than ever remote work and working from home has become an important tool for businesses. Tune in to session two of the Springfield Chamber's Business Boot Camp to discuss best practices for keeping your employees and your business secure and connected while working outside of the office.\n\nRegister for Session 3: Mental Health and Wellness discussion for Business\n\n\n\nThank you to our Sponsors: NW Natural\, Oregon Community Credit Union\, Molina Leadership and Business Development Solutions\, Kent Witham Air\, and Molina Law Group
X-ALT-DESC;FMTTYPE=text/html:Business Boot Camp - Session 2<br />\n<br />\nJoin the Springfield Chamber for the 2020 Business Boot Camp. Session two will be presented by Partnered Solutions IT. Now more than ever remote work and working from home has become an important tool for businesses. Tune in to session two of the Springfield Chamber&#39\;s Business Boot Camp to discuss best practices for keeping your employees and your business secure and connected while working outside of the office.<br />\n<a href="https://business.springfield-chamber.org/events/details/business-boot-camp-day-3-11307">Register for Session 3: Mental Health and Wellness discussion for Business</a><br />\n<br />\nThank you to our Sponsors: NW Natural\, Oregon Community Credit Union\, Molina Leadership and Business Development Solutions\, Kent Witham Air\, and Molina Law Group
LOCATION:This is an online webinar. A link to join will be sent to participants prior to the event.
UID:e.1712.11306
SEQUENCE:3
DTSTAMP:20260421T162232Z
URL:https://business.springfield-chamber.org/events/details/business-boot-camp-2020-day-2-best-practices-for-a-remote-and-secure-workforce-11306
END:VEVENT

END:VCALENDAR
