BEGIN:VCALENDAR
VERSION:2.0
PRODID:-//ChamberMaster//Event Calendar 2.0//EN
METHOD:PUBLISH
X-PUBLISHED-TTL:P3D
REFRESH-INTERVAL:P3D
CALSCALE:GREGORIAN
BEGIN:VEVENT
DTSTART:20200513T223000Z
DTEND:20200514T000000Z
X-MICROSOFT-CDO-ALLDAYEVENT:FALSE
SUMMARY:Business Boot Camp 2020 - Day 1 - How to Reopen
DESCRIPTION:Business Boot Camp - Session 1\n\n\n\nJoin the Springfield Chamber for the 2020 Business Boot Camp. Session one will feature Robert Killen\, Director of the Lane Small Business Development Center. As Oregon businesses prepare to reopen this spring and summer\, join us for a presentation and a question and answer session as we all plan for the future.\n\nRegister for Session 2: Best Practices for Remote and Secure Workforce\n\nRegister for Session 3: Mental Health and Wellness discussion for Business\n\n\n\n\n\nThank you to our Sponsors: NW Natural\, Oregon Community Credit Union\, Molina Leadership and Business Development Solutions\, Kent Witham Air\, and Molina Law Group
X-ALT-DESC;FMTTYPE=text/html:Business Boot Camp - Session 1<br />\n<br />\nJoin the Springfield Chamber for the 2020 Business Boot Camp. Session one will feature Robert Killen\, Director of the Lane Small Business Development Center. As Oregon businesses prepare to reopen this spring and summer\, join us for a presentation and a question and answer session as we all plan for the future.<br />\n<a href="https://business.springfield-chamber.org/events/details/business-boot-camp-day-2-11306">Register for Session 2: Best Practices for Remote and Secure Workforce</a><br />\n<a href="https://business.springfield-chamber.org/events/details/business-boot-camp-day-3-11307">Register for Session 3: Mental Health and Wellness discussion for Business</a><br />\n<br />\n<br />\nThank you to our Sponsors: NW Natural\, Oregon Community Credit Union\, Molina Leadership and Business Development Solutions\, Kent Witham Air\, and Molina Law Group
LOCATION:This is an online webinar. A link to join will be sent to registrants prior to the event.
UID:e.1712.11305
SEQUENCE:3
DTSTAMP:20260421T162535Z
URL:https://business.springfield-chamber.org/events/details/business-boot-camp-2020-day-1-how-to-reopen-11305
END:VEVENT

END:VCALENDAR
