BEGIN:VCALENDAR
VERSION:2.0
PRODID:-//ChamberMaster//Event Calendar 2.0//EN
METHOD:PUBLISH
X-PUBLISHED-TTL:P3D
REFRESH-INTERVAL:P3D
CALSCALE:GREGORIAN
BEGIN:VEVENT
DTSTART:20191211T013000Z
DTEND:20191211T033000Z
X-MICROSOFT-CDO-ALLDAYEVENT:FALSE
SUMMARY:Business After Hours 2019 - Valley River Inn
DESCRIPTION:Your PRESENTS is requested at Business After Hours at Valley River Inn Tuesday\, Dec 10th! There will be food\, drinks\, and prizes along with DJ Barry McGuire. There will be an ugly sweater competition for all to participate\, along with a holiday beard competition\, so Gentlemen\, bust out your best beardaments.\n\nIf you don't come\, YULE be sorry!
X-ALT-DESC;FMTTYPE=text/html:<p style="margin: 0px 0px 6px\; font-family: Helvetica\, Arial\, sans-serif\; color: rgb(29\, 33\, 41)\; font-size: 14px\;">Your PRESENTS is requested at Business After Hours at Valley River Inn Tuesday\, Dec 10th! There will be food\, drinks\, and prizes along with DJ Barry McGuire. There will be an ugly sweater competition for all to participate\, along with a holiday beard competition\, so Gentlemen\, bust out your best beardaments.</p>\n\n<p style="margin: 6px 0px 0px\; display: inline\; font-family: Helvetica\, Arial\, sans-serif\; color: rgb(29\, 33\, 41)\; font-size: 14px\;">If you don&rsquo\;t come\, YULE be sorry!<br />\n<br />\n&nbsp\;</p>\n
LOCATION:Valley River Inn 1000 Valley River Way Eugene\, OR 97401
UID:e.1712.10947
SEQUENCE:3
DTSTAMP:20260419T222432Z
URL:https://business.springfield-chamber.org/events/details/business-after-hours-2019-valley-river-inn-10947
END:VEVENT

END:VCALENDAR
