BEGIN:VCALENDAR
VERSION:2.0
PRODID:-//ChamberMaster//Event Calendar 2.0//EN
METHOD:PUBLISH
X-PUBLISHED-TTL:P3D
REFRESH-INTERVAL:P3D
CALSCALE:GREGORIAN
BEGIN:VEVENT
DTSTART:20201215T160000Z
DTEND:20201215T173000Z
X-MICROSOFT-CDO-ALLDAYEVENT:FALSE
SUMMARY:2020 State of Business Breakfast
DESCRIPTION:Join us for a comprehensive look at Oregon's business landscape. We have brought together economic and small business experts to explore:\n\n	A presentation on Oregon's economic outlook heading into 2021\n	A facilitated Q&A session on local impacts\n\nFeaturing Economist Tim Duy of the University of Oregon
X-ALT-DESC;FMTTYPE=text/html:Join us for a comprehensive look at Oregon&#39\;s business landscape. We have brought together economic and small business experts to explore:\n<ul>\n	<li>A presentation on Oregon&#39\;s economic outlook heading into 2021</li>\n	<li>A facilitated Q&amp\;A session on local impacts</li>\n</ul>\nFeaturing Economist Tim Duy of the University of Oregon<br />\n&nbsp\;
LOCATION:Zoom Online meeting - Invitation will be sent the day before the event
UID:e.1712.11303
SEQUENCE:3
DTSTAMP:20260421T163611Z
URL:https://business.springfield-chamber.org/events/details/2020-state-of-business-breakfast-11303
END:VEVENT

END:VCALENDAR
