BEGIN:VCALENDAR
VERSION:2.0
PRODID:-//ChamberMaster//Event Calendar 2.0//EN
METHOD:PUBLISH
X-PUBLISHED-TTL:P3D
REFRESH-INTERVAL:P3D
CALSCALE:GREGORIAN
BEGIN:VEVENT
DTSTART:20190919T163000Z
DTEND:20190919T233000Z
X-MICROSOFT-CDO-ALLDAYEVENT:FALSE
SUMMARY:2019 Leadership Summit
DESCRIPTION:Join us Thursday\, September 19th for the first annual Leadership Summit\, presented by the Springfield Area Chamber of Commerce. This summit provides extended learning opportunities in the categories of professional development\, organizational management\, and civic leadership. \n\n\n\nThe 2019 Leadership Summit is sponsored by Kaiser Permanente. For more sponsorship opportunities\, please contact Paige Sharpe\, paige@springfield-chamber.org\, or call 541-746-1651. \n\n\n\nSpecial recognition will be given to graduates of Leadership Eugene Springfield\, and the Springfield Leadership Workshop. Please indicate whether you are a graduate of one of these programs when you register online. \n\n\n\nWant to know more about our keynotes? Check out our Speaker Sneak Peek article in the Bottom Line HERE!
X-ALT-DESC;FMTTYPE=text/html:Join us Thursday\, September 19th for the first annual Leadership Summit\, presented by the Springfield Area Chamber of Commerce. This summit provides extended learning opportunities in the categories of professional development\, organizational management\, and civic leadership.&nbsp\;<br />\n<br />\nThe 2019 Leadership Summit is sponsored by Kaiser Permanente. For more sponsorship opportunities\, please contact Paige Sharpe\, paige@springfield-chamber.org\, or call 541-746-1651.&nbsp\;<br />\n<br />\nSpecial recognition will be given to graduates of Leadership Eugene Springfield\, and the Springfield Leadership Workshop. Please indicate whether you are a graduate of one of these programs when you register online.&nbsp\;<br />\n<br />\nWant to know more about our keynotes? Check out our Speaker Sneak Peek article in the Bottom Line <a href="https://springfieldbottomline.com/2019/06/2019-leadership-summit-preview">HERE</a>!
LOCATION:LCC Center for Meeting and Learning 4000 E 30th Ave\, Bldg. 19 Eugene\, OR 97405
UID:e.1712.10945
SEQUENCE:3
DTSTAMP:20260421T112351Z
URL:https://business.springfield-chamber.org/events/details/2019-leadership-summit-10945
END:VEVENT

END:VCALENDAR
