BEGIN:VCALENDAR
VERSION:2.0
PRODID:-//ChamberMaster//Event Calendar 2.0//EN
METHOD:PUBLISH
X-PUBLISHED-TTL:P3D
REFRESH-INTERVAL:P3D
CALSCALE:GREGORIAN
BEGIN:VEVENT
DTSTART:20190723T180000Z
DTEND:20190724T010000Z
X-MICROSOFT-CDO-ALLDAYEVENT:FALSE
SUMMARY:2019 Joint Chamber Golf Classic in Memory of Dave Hauser
DESCRIPTION:JUST FORE BUSINESS\, JUST FORE FUN!\n\n \nThe 45th Annual Eugene/Springfield Joint Chamber Golf Classic is an opportunity for the members of the Springfield and Eugene Chambers to come together for a day of golf\, networking and fun. The tournament is a four-person scramble with 1:00pm shotgun start. In addition to a great game of golf\, golfers enjoy imaginative and unique experiences provided by tee and green sponsors. From fiestas to ice cream there is food\, beverages\, fun and Chamber hospitality at nearly every hole. \n\nThis event is generously sponsored by Eugene Area Radio Stations. Are you interested in sponsoring this great event? Contact Cassie Stoner at the Eugene Chamber or Paige Sharpe at the Springfield Chamber for all the info!\n\nREGISTER ONLINE HERE
X-ALT-DESC;FMTTYPE=text/html:<span style="font-family:verdana\;"><span style="font-size:14px\;"><em style="font-family: verdana\; line-height: 20.8px\;"><strong>JUST FORE BUSINESS\, JUST FORE FUN!</strong></em></span></span><br style="font-family: verdana\; line-height: 20.8px\;" />\n&nbsp\;\n<p style="outline-color: rgb(46\, 122\, 204)\; margin: 0px auto 2.5em\; padding: 0px\; border: 0px\; color: rgb(85\, 85\, 85)\; font-size: 0.9em\; line-height: 2\; font-family: Merriweather\, arial\, sans-serif\;"><strong style="outline-color: rgb(46\, 122\, 204)\;">The 45th&nbsp\;Annual Eugene/Springfield Joint Chamber Golf Classic</strong>&nbsp\;is an opportunity for the members of the Springfield and Eugene Chambers to come together for a day of golf\, networking and fun. The tournament is a four-person scramble with 1:00pm shotgun start. In addition to a great game of golf\, golfers enjoy imaginative and unique experiences provided by tee and green sponsors. From fiestas to ice cream there is food\, beverages\, fun and Chamber hospitality at nearly every hole.&nbsp\;</p>\n\n<p style="outline-color: rgb(46\, 122\, 204)\; margin: 0px auto 2.5em\; padding: 0px\; border: 0px\; color: rgb(85\, 85\, 85)\; font-size: 0.9em\; line-height: 2\; font-family: Merriweather\, arial\, sans-serif\;">This event is generously sponsored by Eugene Area Radio Stations. Are you interested in sponsoring this great event? Contact <a href="mailto:Cassies@eugenechamber.com?subject=Joint%20Chamber%20Golf%20Classic">Cassie Stoner </a>at the Eugene Chamber or&nbsp\;<a href="mailto:paige@springfield-chamber.org?subject=Joint%20Chamber%20Golf%20Classic" style="outline-color: rgb(46\, 122\, 204)\; color: rgb(69\, 113\, 53)\; transition: all 200ms linear\;">Paige Sharpe</a>&nbsp\;at the Springfield Chamber for all the info!</p>\n\n<div style="text-align: center\;"><a href="http://web.eugenechamber.com/events/Joint-Chamber-Golf-Classic-2019-2317602/details"><b>REGISTER ONLINE HERE</b></a></div>\n
LOCATION:Emerald Valley Golf Club 83301 Dale Kuni Rd. Creswell\, OR 97426
UID:e.1712.10943
SEQUENCE:3
DTSTAMP:20260419T214750Z
URL:https://business.springfield-chamber.org/events/details/2019-joint-chamber-golf-classic-in-memory-of-dave-hauser-10943
END:VEVENT

END:VCALENDAR
